BEGIN:VCALENDAR
VERSION:2.0
PRODID:hinto.net
X-PUBLISHED-TTL:P1W
BEGIN:VEVENT
UID:hinto.net-event_show-6859319
DTSTART:20260419T033500
SEQUENCE:0
CREATED:20260328T053420
LAST-MODIFIED:20260328T053420
TRANSP:OPAQUE
DTEND:20260419T050500
LOCATION:
SUMMARY:ARD: Wolfsland - 20 Stunden
CLASS:PUBLIC
DESCRIPTION:
ORGANIZER:
DTSTAMP:20260419T144608
ATTACH:https://www.hinto.net/de/events/ard-wolfsland-20-stunden-19-04-2026-0335-e2790498-20.html
END:VEVENT
END:VCALENDAR
