BEGIN:VCALENDAR
VERSION:2.0
PRODID:hinto.net
X-PUBLISHED-TTL:P1W
BEGIN:VEVENT
UID:hinto.net-event_show-6864215
DTSTART:20260512T173000
SEQUENCE:0
CREATED:20260330T050605
LAST-MODIFIED:20260330T050605
TRANSP:OPAQUE
DTEND:20260512T190000
LOCATION:OST Campus Buchs
SUMMARY:AI-Stammtisch | Buchs
CLASS:PUBLIC
DESCRIPTION:
ORGANIZER:
DTSTAMP:20260424T000428
ATTACH:https://www.hinto.net/de/events/ai-stammtisch-buchs-12-05-2026-1730-ost-campus-buchs-buchs-e2794707-20.html
END:VEVENT
END:VCALENDAR
