BEGIN:VCALENDAR
VERSION:2.0
PRODID:hinto.net
X-PUBLISHED-TTL:P1W
BEGIN:VEVENT
UID:hinto.net-event_show-6922485
DTSTART:20260419T181500
SEQUENCE:0
CREATED:20260418T114349
LAST-MODIFIED:20260418T114349
TRANSP:OPAQUE
DTEND:20260419T184500
LOCATION:
SUMMARY:5+: Hör mal, wer da hämmert!
CLASS:PUBLIC
DESCRIPTION:
ORGANIZER:
DTSTAMP:20260420T032304
ATTACH:https://www.hinto.net/de/events/5+-hoer-mal-wer-da-haemmert!-19-04-2026-1815-e2845012-20.html
END:VEVENT
END:VCALENDAR
