BEGIN:VCALENDAR
VERSION:2.0
PRODID:hinto.net
X-PUBLISHED-TTL:P1W
BEGIN:VEVENT
UID:hinto.net-event_show-6863508
DTSTART:20260419T191500
SEQUENCE:0
CREATED:20260329T154758
LAST-MODIFIED:20260329T154758
TRANSP:OPAQUE
DTEND:20260419T194500
LOCATION:
SUMMARY:5+: Hör mal, wer da hämmert!
CLASS:PUBLIC
DESCRIPTION:
ORGANIZER:
DTSTAMP:20260420T082826
ATTACH:https://www.hinto.net/de/events/5+-hoer-mal-wer-da-haemmert!-19-04-2026-1915-e2794124-20.html
END:VEVENT
END:VCALENDAR
