BEGIN:VCALENDAR
VERSION:2.0
PRODID:hinto.net
X-PUBLISHED-TTL:P1W
BEGIN:VEVENT
UID:hinto.net-event_show-6939427
DTSTART:20260422T231500
SEQUENCE:0
CREATED:20260422T184839
LAST-MODIFIED:20260422T184839
TRANSP:OPAQUE
DTEND:20260423T020000
LOCATION:
SUMMARY:4+: Waterworld
CLASS:PUBLIC
DESCRIPTION:
ORGANIZER:
DTSTAMP:20260423T190555
ATTACH:https://www.hinto.net/de/events/4+-waterworld-22-04-2026-2315-e2854768-20.html
END:VEVENT
END:VCALENDAR
