BEGIN:VCALENDAR
VERSION:2.0
PRODID:hinto.net
X-PUBLISHED-TTL:P1W
BEGIN:VEVENT
UID:hinto.net-event_show-6862878
DTSTART:20260419T131500
SEQUENCE:0
CREATED:20260329T151252
LAST-MODIFIED:20260329T151252
TRANSP:OPAQUE
DTEND:20260419T140000
LOCATION:
SUMMARY:3Sat: Lechtal - Lebensraum Berg
CLASS:PUBLIC
DESCRIPTION:
ORGANIZER:
DTSTAMP:20260419T191541
ATTACH:https://www.hinto.net/de/events/3sat-lechtal-lebensraum-berg-19-04-2026-1315-e2793494-20.html
END:VEVENT
END:VCALENDAR
