BEGIN:VCALENDAR
VERSION:2.0
PRODID:hinto.net
X-PUBLISHED-TTL:P1W
BEGIN:VEVENT
UID:hinto.net-event_show-6939419
DTSTART:20260423T031500
SEQUENCE:0
CREATED:20260422T184833
LAST-MODIFIED:20260422T184833
TRANSP:OPAQUE
DTEND:20260423T050000
LOCATION:
SUMMARY:3+: Susi.live
CLASS:PUBLIC
DESCRIPTION:
ORGANIZER:
DTSTAMP:20260423T191107
ATTACH:https://www.hinto.net/de/events/3+-susi-live-23-04-2026-0315-e2854760-20.html
END:VEVENT
END:VCALENDAR
