BEGIN:VCALENDAR
VERSION:2.0
PRODID:hinto.net
X-PUBLISHED-TTL:P1W
BEGIN:VEVENT
UID:hinto.net-event_show-6922430
DTSTART:20260419T170000
SEQUENCE:0
CREATED:20260418T114154
LAST-MODIFIED:20260418T114154
TRANSP:OPAQUE
DTEND:20260419T181000
LOCATION:
SUMMARY:3+: Steel Buddies - Stahlharte Geschäfte
CLASS:PUBLIC
DESCRIPTION:
ORGANIZER:
DTSTAMP:20260420T035548
ATTACH:https://www.hinto.net/de/events/3+-steel-buddies-stahlharte-geschaefte-19-04-2026-1700-e2844957-20.html
END:VEVENT
END:VCALENDAR
