BEGIN:VCALENDAR
VERSION:2.0
PRODID:hinto.net
X-PUBLISHED-TTL:P1W
BEGIN:VEVENT
UID:hinto.net-event_show-6919344
DTSTART:20260418T225000
SEQUENCE:0
CREATED:20260417T042118
LAST-MODIFIED:20260417T042118
TRANSP:OPAQUE
DTEND:20260419T010500
LOCATION:
SUMMARY:3+: Sisters
CLASS:PUBLIC
DESCRIPTION:
ORGANIZER:
DTSTAMP:20260419T144944
ATTACH:https://www.hinto.net/de/events/3+-sisters-18-04-2026-2250-e2842301-20.html
END:VEVENT
END:VCALENDAR
