BEGIN:VCALENDAR
VERSION:2.0
PRODID:hinto.net
X-PUBLISHED-TTL:P1W
BEGIN:VEVENT
UID:hinto.net-event_show-6925628
DTSTART:20260508T200000
SEQUENCE:0
CREATED:20260419T052302
LAST-MODIFIED:20260419T052302
TRANSP:OPAQUE

LOCATION:Bodenseeforum
SUMMARY:19. Konstanzer Jazzgipfel
CLASS:PUBLIC
DESCRIPTION:
ORGANIZER:
DTSTAMP:20260420T045717
ATTACH:https://www.hinto.net/de/events/19-konstanzer-jazzgipfel-08-05-2026-2000-bodenseeforum-konstanz-e2847604-20.html
END:VEVENT
END:VCALENDAR
