BEGIN:VCALENDAR
VERSION:2.0
PRODID:hinto.net
X-PUBLISHED-TTL:P1W
BEGIN:VEVENT
UID:hinto.net-event_show-6925736
DTSTART:20260609T190000
SEQUENCE:0
CREATED:20260419T052334
LAST-MODIFIED:20260419T052334
TRANSP:OPAQUE
DTEND:20260609T203000
LOCATION:Berner Münster
SUMMARY:OREGL RAUM
CLASS:PUBLIC
DESCRIPTION:
ORGANIZER:
DTSTAMP:20260420T045042
ATTACH:https://www.hinto.net/de/events/oregl-raum-09-06-2026-1900-berner-muenster-bern-e2847676-20.html
END:VEVENT
END:VCALENDAR
