BEGIN:VCALENDAR
VERSION:2.0
PRODID:hinto.net
X-PUBLISHED-TTL:P1W
BEGIN:VEVENT
UID:hinto.net-event_show-6903877
DTSTART:20260424T000000
SEQUENCE:0
CREATED:20260411T114625
LAST-MODIFIED:20260411T114625
TRANSP:OPAQUE

LOCATION:Dans L'Objectif
SUMMARY:Retours d'exil
CLASS:PUBLIC
DESCRIPTION:
ORGANIZER:
DTSTAMP:20260419T152829
ATTACH:https://www.hinto.net/de/events/retours-dexil-24-04-2026-0000-dans-lobjectif-martigny-e2829105-20.html
END:VEVENT
END:VCALENDAR
