BEGIN:VCALENDAR
VERSION:2.0
PRODID:hinto.net
X-PUBLISHED-TTL:P1W
BEGIN:VEVENT
UID:hinto.net-event_show-6806733
DTSTART:20260424T220000
SEQUENCE:0
CREATED:20260311T050827
LAST-MODIFIED:20260311T050827
TRANSP:OPAQUE

LOCATION:CineABC
SUMMARY:SPECIAL: EVERYTHING EVERYWHERE ALL AT ONCE
CLASS:PUBLIC
DESCRIPTION:
ORGANIZER:
DTSTAMP:20260420T063250
ATTACH:https://www.hinto.net/de/events/special-everything-everywhere-all-at-once-24-04-2026-2200-cineabc-bern-e2746583-20.html
END:VEVENT
END:VCALENDAR
