BEGIN:VCALENDAR
VERSION:2.0
PRODID:hinto.net
X-PUBLISHED-TTL:P1W
BEGIN:VEVENT
UID:hinto.net-event_show-6924977
DTSTART:20260422T140000
SEQUENCE:0
CREATED:20260419T051940
LAST-MODIFIED:20260419T051940
TRANSP:OPAQUE
DTEND:20260422T170000
LOCATION:tiRumpel
SUMMARY:Kindertreff
CLASS:PUBLIC
DESCRIPTION:
ORGANIZER:
DTSTAMP:20260420T050016
ATTACH:https://www.hinto.net/de/events/kindertreff-22-04-2026-1400-tirumpel-st-gallen-e2847256-20.html
END:VEVENT
END:VCALENDAR
