BEGIN:VCALENDAR
VERSION:2.0
PRODID:hinto.net
X-PUBLISHED-TTL:P1W
BEGIN:VEVENT
UID:hinto.net-event_show-6925308
DTSTART:20260424T200000
SEQUENCE:0
CREATED:20260419T052132
LAST-MODIFIED:20260419T052132
TRANSP:OPAQUE

LOCATION:Dampfzentrale
SUMMARY:EXPOP 2026
CLASS:PUBLIC
DESCRIPTION:
ORGANIZER:
DTSTAMP:20260419T223549
ATTACH:https://www.hinto.net/de/events/expop-2026-24-04-2026-2000-dampfzentrale-bern-e2847398-20.html
END:VEVENT
END:VCALENDAR
