BEGIN:VCALENDAR
VERSION:2.0
PRODID:hinto.net
X-PUBLISHED-TTL:P1W
BEGIN:VEVENT
UID:hinto.net-event_show-6866543
DTSTART:20260420T215500
SEQUENCE:0
CREATED:20260330T184750
LAST-MODIFIED:20260330T184750
TRANSP:OPAQUE
DTEND:20260420T233500
LOCATION:
SUMMARY:ZDFneo: Inspector Barnaby
CLASS:PUBLIC
DESCRIPTION:
ORGANIZER:
DTSTAMP:20260420T041854
ATTACH:https://www.hinto.net/de/events/zdfneo-inspector-barnaby-20-04-2026-2155-e2796762-20.html
END:VEVENT
END:VCALENDAR
