BEGIN:VCALENDAR
VERSION:2.0
PRODID:hinto.net
X-PUBLISHED-TTL:P1W
BEGIN:VEVENT
UID:hinto.net-event_show-6501048
DTSTART:20260624T170000
SEQUENCE:0
CREATED:20251204T202047
LAST-MODIFIED:20251204T202047
TRANSP:OPAQUE
DTEND:20260624T190000
LOCATION:Talenticum
SUMMARY:Zauberkunst
CLASS:PUBLIC
DESCRIPTION:
ORGANIZER:
DTSTAMP:20260419T213659
ATTACH:https://www.hinto.net/de/events/zauberkunst-24-06-2026-1700-talenticum-romanshorn-e2262971-20.html
END:VEVENT
END:VCALENDAR
