BEGIN:VCALENDAR
VERSION:2.0
PRODID:hinto.net
X-PUBLISHED-TTL:P1W
BEGIN:VEVENT
UID:hinto.net-event_show-6862932
DTSTART:20260419T191000
SEQUENCE:0
CREATED:20260329T151520
LAST-MODIFIED:20260329T151520
TRANSP:OPAQUE
DTEND:20260419T201500
LOCATION:
SUMMARY:VOX: Ab ins Beet! Die Garten-Soap
CLASS:PUBLIC
DESCRIPTION:
ORGANIZER:
DTSTAMP:20260420T045951
ATTACH:https://www.hinto.net/de/events/vox-ab-ins-beet!-die-garten-soap-19-04-2026-1910-e2793548-20.html
END:VEVENT
END:VCALENDAR
