BEGIN:VCALENDAR
VERSION:2.0
PRODID:hinto.net
X-PUBLISHED-TTL:P1W
BEGIN:VEVENT
UID:hinto.net-event_show-6889025
DTSTART:20260418T231500
SEQUENCE:0
CREATED:20260407T142532
LAST-MODIFIED:20260407T142532
TRANSP:OPAQUE
DTEND:20260419T001500
LOCATION:
SUMMARY:TV25: Restaurant Impossible
CLASS:PUBLIC
DESCRIPTION:
ORGANIZER:
DTSTAMP:20260419T161517
ATTACH:https://www.hinto.net/de/events/tv25-restaurant-impossible-18-04-2026-2315-e2815392-20.html
END:VEVENT
END:VCALENDAR
