BEGIN:VCALENDAR
VERSION:2.0
PRODID:hinto.net
X-PUBLISHED-TTL:P1W
BEGIN:VEVENT
UID:hinto.net-event_show-6901698
DTSTART:20260422T230000
SEQUENCE:0
CREATED:20260411T061536
LAST-MODIFIED:20260411T061536
TRANSP:OPAQUE
DTEND:20260423T000000
LOCATION:
SUMMARY:TV25: Lucifer
CLASS:PUBLIC
DESCRIPTION:
ORGANIZER:
DTSTAMP:20260423T205423
ATTACH:https://www.hinto.net/de/events/tv25-lucifer-22-04-2026-2300-e2827096-20.html
END:VEVENT
END:VCALENDAR
