BEGIN:VCALENDAR
VERSION:2.0
PRODID:hinto.net
X-PUBLISHED-TTL:P1W
BEGIN:VEVENT
UID:hinto.net-event_show-6916810
DTSTART:20260419T191500
SEQUENCE:0
CREATED:20260419T145605
LAST-MODIFIED:20260419T145605
TRANSP:OPAQUE
DTEND:20260419T195000
LOCATION:
SUMMARY:Tele Züri: Sonntalk
CLASS:PUBLIC
DESCRIPTION:
ORGANIZER:
DTSTAMP:20260420T085518
ATTACH:https://www.hinto.net/de/events/tele-zueri-sonntalk-19-04-2026-1915-e2839767-20.html
END:VEVENT
END:VCALENDAR
