BEGIN:VCALENDAR
VERSION:2.0
PRODID:hinto.net
X-PUBLISHED-TTL:P1W
BEGIN:VEVENT
UID:hinto.net-event_show-6863058
DTSTART:20260419T150000
SEQUENCE:0
CREATED:20260418T065029
LAST-MODIFIED:20260418T065029
TRANSP:OPAQUE
DTEND:20260419T152000
LOCATION:
SUMMARY:Tele Züri: LifeStyle
CLASS:PUBLIC
DESCRIPTION:
ORGANIZER:
DTSTAMP:20260420T045751
ATTACH:https://www.hinto.net/de/events/tele-zueri-lifestyle-19-04-2026-1500-e2793674-20.html
END:VEVENT
END:VCALENDAR
