BEGIN:VCALENDAR
VERSION:2.0
PRODID:hinto.net
X-PUBLISHED-TTL:P1W
BEGIN:VEVENT
UID:hinto.net-event_show-6873214
DTSTART:20260423T032000
SEQUENCE:0
CREATED:20260402T051908
LAST-MODIFIED:20260402T051908
TRANSP:OPAQUE
DTEND:20260423T040000
LOCATION:
SUMMARY:Tele Top: Top Talk
CLASS:PUBLIC
DESCRIPTION:
ORGANIZER:
DTSTAMP:20260423T150048
ATTACH:https://www.hinto.net/de/events/tele-top-top-talk-23-04-2026-0320-e2801618-20.html
END:VEVENT
END:VCALENDAR
