BEGIN:VCALENDAR
VERSION:2.0
PRODID:hinto.net
X-PUBLISHED-TTL:P1W
BEGIN:VEVENT
UID:hinto.net-event_show-6895249
DTSTART:20260423T023100
SEQUENCE:0
CREATED:20260409T183859
LAST-MODIFIED:20260409T183859
TRANSP:OPAQUE
DTEND:20260423T025600
LOCATION:
SUMMARY:Tele M1: Was get's?
CLASS:PUBLIC
DESCRIPTION:
ORGANIZER:
DTSTAMP:20260423T151859
ATTACH:https://www.hinto.net/de/events/tele-m1-was-gets-23-04-2026-0231-e2821099-20.html
END:VEVENT
END:VCALENDAR
