BEGIN:VCALENDAR
VERSION:2.0
PRODID:hinto.net
X-PUBLISHED-TTL:P1W
BEGIN:VEVENT
UID:hinto.net-event_show-6922368
DTSTART:20260419T021600
SEQUENCE:0
CREATED:20260418T113841
LAST-MODIFIED:20260418T113841
TRANSP:OPAQUE
DTEND:20260419T024100
LOCATION:
SUMMARY:Tele M1: Typisch Michelle
CLASS:PUBLIC
DESCRIPTION:
ORGANIZER:
DTSTAMP:20260419T145110
ATTACH:https://www.hinto.net/de/events/tele-m1-typisch-michelle-19-04-2026-0216-e2844895-20.html
END:VEVENT
END:VCALENDAR
