BEGIN:VCALENDAR
VERSION:2.0
PRODID:hinto.net
X-PUBLISHED-TTL:P1W
BEGIN:VEVENT
UID:hinto.net-event_show-6925880
DTSTART:20260419T191800
SEQUENCE:0
CREATED:20260419T150941
LAST-MODIFIED:20260419T150941
TRANSP:OPAQUE
DTEND:20260419T195500
LOCATION:
SUMMARY:Tele M1: Sonntalk
CLASS:PUBLIC
DESCRIPTION:
ORGANIZER:
DTSTAMP:20260420T034348
ATTACH:https://www.hinto.net/de/events/tele-m1-sonntalk-19-04-2026-1918-e2847820-20.html
END:VEVENT
END:VCALENDAR
