BEGIN:VCALENDAR
VERSION:2.0
PRODID:hinto.net
X-PUBLISHED-TTL:P1W
BEGIN:VEVENT
UID:hinto.net-event_show-6863197
DTSTART:20260419T121500
SEQUENCE:0
CREATED:20260412T100013
LAST-MODIFIED:20260412T100013
TRANSP:OPAQUE
DTEND:20260419T122000
LOCATION:
SUMMARY:Tele M1: premiumshopping.tv
CLASS:PUBLIC
DESCRIPTION:
ORGANIZER:
DTSTAMP:20260419T144619
ATTACH:https://www.hinto.net/de/events/tele-m1-premiumshopping-tv-19-04-2026-1215-e2793813-20.html
END:VEVENT
END:VCALENDAR
