BEGIN:VCALENDAR
VERSION:2.0
PRODID:hinto.net
X-PUBLISHED-TTL:P1W
BEGIN:VEVENT
UID:hinto.net-event_show-6863439
DTSTART:20260419T133000
SEQUENCE:0
CREATED:20260329T154547
LAST-MODIFIED:20260329T154547
TRANSP:OPAQUE
DTEND:20260419T134500
LOCATION:
SUMMARY:Tele Basel: Tatze, Pfote, Schnabel
CLASS:PUBLIC
DESCRIPTION:
ORGANIZER:
DTSTAMP:20260419T220435
ATTACH:https://www.hinto.net/de/events/tele-basel-tatze-pfote-schnabel-19-04-2026-1330-e2794055-20.html
END:VEVENT
END:VCALENDAR
