BEGIN:VCALENDAR
VERSION:2.0
PRODID:hinto.net
X-PUBLISHED-TTL:P1W
BEGIN:VEVENT
UID:hinto.net-event_show-6857210
DTSTART:20260417T180000
SEQUENCE:0
CREATED:20260327T235751
LAST-MODIFIED:20260327T235751
TRANSP:OPAQUE
DTEND:20260417T181300
LOCATION:
SUMMARY:Tele Basel: punkt6
CLASS:PUBLIC
DESCRIPTION:
ORGANIZER:
DTSTAMP:20260419T180553
ATTACH:https://www.hinto.net/de/events/tele-basel-punkt6-17-04-2026-1800-e2788389-20.html
END:VEVENT
END:VCALENDAR
