BEGIN:VCALENDAR
VERSION:2.0
PRODID:hinto.net
X-PUBLISHED-TTL:P1W
BEGIN:VEVENT
UID:hinto.net-event_show-6863445
DTSTART:20260419T150000
SEQUENCE:0
CREATED:20260329T154551
LAST-MODIFIED:20260329T154551
TRANSP:OPAQUE
DTEND:20260419T151000
LOCATION:
SUMMARY:Tele Basel: Mein Verein
CLASS:PUBLIC
DESCRIPTION:
ORGANIZER:
DTSTAMP:20260420T042922
ATTACH:https://www.hinto.net/de/events/tele-basel-mein-verein-19-04-2026-1500-e2794061-20.html
END:VEVENT
END:VCALENDAR
