BEGIN:VCALENDAR
VERSION:2.0
PRODID:hinto.net
X-PUBLISHED-TTL:P1W
BEGIN:VEVENT
UID:hinto.net-event_show-6863452
DTSTART:20260419T163500
SEQUENCE:0
CREATED:20260329T154556
LAST-MODIFIED:20260329T154556
TRANSP:OPAQUE
DTEND:20260419T170000
LOCATION:
SUMMARY:Tele Basel: Geld & Co.
CLASS:PUBLIC
DESCRIPTION:
ORGANIZER:
DTSTAMP:20260419T202538
ATTACH:https://www.hinto.net/de/events/tele-basel-geld-co-19-04-2026-1635-e2794068-20.html
END:VEVENT
END:VCALENDAR
