BEGIN:VCALENDAR
VERSION:2.0
PRODID:hinto.net
X-PUBLISHED-TTL:P1W
BEGIN:VEVENT
UID:hinto.net-event_show-6863101
DTSTART:20260419T050000
SEQUENCE:0
CREATED:20260419T134630
LAST-MODIFIED:20260419T134630
TRANSP:OPAQUE
DTEND:20260419T052000
LOCATION:
SUMMARY:Tele 1: Nachrichten
CLASS:PUBLIC
DESCRIPTION:
ORGANIZER:
DTSTAMP:20260420T073328
ATTACH:https://www.hinto.net/de/events/tele-1-nachrichten-19-04-2026-0500-e2793717-20.html
END:VEVENT
END:VCALENDAR
