BEGIN:VCALENDAR
VERSION:2.0
PRODID:hinto.net
X-PUBLISHED-TTL:P1W
BEGIN:VEVENT
UID:hinto.net-event_show-6886533
DTSTART:20260427T045500
SEQUENCE:0
CREATED:20260405T232032
LAST-MODIFIED:20260405T232032
TRANSP:OPAQUE
DTEND:20260427T053000
LOCATION:
SUMMARY:SWR: Treffpunkt
CLASS:PUBLIC
DESCRIPTION:
ORGANIZER:
DTSTAMP:20260419T155335
ATTACH:https://www.hinto.net/de/events/swr-treffpunkt-27-04-2026-0455-e2813068-20.html
END:VEVENT
END:VCALENDAR
