BEGIN:VCALENDAR
VERSION:2.0
PRODID:hinto.net
X-PUBLISHED-TTL:P1W
BEGIN:VEVENT
UID:hinto.net-event_show-6883178
DTSTART:20260425T053000
SEQUENCE:0
CREATED:20260404T204228
LAST-MODIFIED:20260404T204228
TRANSP:OPAQUE
DTEND:20260425T060000
LOCATION:
SUMMARY:SWR: So isst Anders
CLASS:PUBLIC
DESCRIPTION:
ORGANIZER:
DTSTAMP:20260420T054551
ATTACH:https://www.hinto.net/de/events/swr-so-isst-anders-25-04-2026-0530-e2810896-20.html
END:VEVENT
END:VCALENDAR
