BEGIN:VCALENDAR
VERSION:2.0
PRODID:hinto.net
X-PUBLISHED-TTL:P1W
BEGIN:VEVENT
UID:hinto.net-event_show-6925953
DTSTART:20260419T201400
SEQUENCE:0
CREATED:20260419T151158
LAST-MODIFIED:20260419T151158
TRANSP:OPAQUE
DTEND:20260419T220100
LOCATION:
SUMMARY:Swiss1: Solange du da bist
CLASS:PUBLIC
DESCRIPTION:
ORGANIZER:
DTSTAMP:20260420T095439
ATTACH:https://www.hinto.net/de/events/swiss1-solange-du-da-bist-19-04-2026-2014-e2847893-20.html
END:VEVENT
END:VCALENDAR
