BEGIN:VCALENDAR
VERSION:2.0
PRODID:hinto.net
X-PUBLISHED-TTL:P1W
BEGIN:VEVENT
UID:hinto.net-event_show-6863665
DTSTART:20260419T153500
SEQUENCE:0
CREATED:20260329T155530
LAST-MODIFIED:20260329T155530
TRANSP:OPAQUE
DTEND:20260419T154500
LOCATION:
SUMMARY:Super RTL: Lana Longbeard
CLASS:PUBLIC
DESCRIPTION:
ORGANIZER:
DTSTAMP:20260420T022344
ATTACH:https://www.hinto.net/de/events/super-rtl-lana-longbeard-19-04-2026-1535-e2794281-20.html
END:VEVENT
END:VCALENDAR
