BEGIN:VCALENDAR
VERSION:2.0
PRODID:hinto.net
X-PUBLISHED-TTL:P1W
BEGIN:VEVENT
UID:hinto.net-event_show-6922492
DTSTART:20260419T120500
SEQUENCE:0
CREATED:20260418T114358
LAST-MODIFIED:20260418T114358
TRANSP:OPAQUE
DTEND:20260419T121500
LOCATION:
SUMMARY:Super RTL: Angelo!
CLASS:PUBLIC
DESCRIPTION:
ORGANIZER:
DTSTAMP:20260419T202557
ATTACH:https://www.hinto.net/de/events/super-rtl-angelo!-19-04-2026-1205-e2845019-20.html
END:VEVENT
END:VCALENDAR
