BEGIN:VCALENDAR
VERSION:2.0
PRODID:hinto.net
X-PUBLISHED-TTL:P1W
BEGIN:VEVENT
UID:hinto.net-event_show-6863680
DTSTART:20260419T190000
SEQUENCE:0
CREATED:20260418T065315
LAST-MODIFIED:20260418T065315
TRANSP:OPAQUE
DTEND:20260419T191000
LOCATION:
SUMMARY:Super RTL: Angelo!
CLASS:PUBLIC
DESCRIPTION:
ORGANIZER:
DTSTAMP:20260420T033907
ATTACH:https://www.hinto.net/de/events/super-rtl-angelo!-19-04-2026-1900-e2794296-20.html
END:VEVENT
END:VCALENDAR
