BEGIN:VCALENDAR
VERSION:2.0
PRODID:hinto.net
X-PUBLISHED-TTL:P1W
BEGIN:VEVENT
UID:hinto.net-event_show-6871991
DTSTART:20260423T033500
SEQUENCE:0
CREATED:20260418T072411
LAST-MODIFIED:20260418T072411
TRANSP:OPAQUE
DTEND:20260423T040000
LOCATION:
SUMMARY:SRF zwei: Wissen@SRF
CLASS:PUBLIC
DESCRIPTION:
ORGANIZER:
DTSTAMP:20260423T161505
ATTACH:https://www.hinto.net/de/events/srf-zwei-wissen@srf-23-04-2026-0335-e2800395-20.html
END:VEVENT
END:VCALENDAR
