BEGIN:VCALENDAR
VERSION:2.0
PRODID:hinto.net
X-PUBLISHED-TTL:P1W
BEGIN:VEVENT
UID:hinto.net-event_show-6856219
DTSTART:20260417T180000
SEQUENCE:0
CREATED:20260327T230154
LAST-MODIFIED:20260327T230154
TRANSP:OPAQUE
DTEND:20260417T181000
LOCATION:
SUMMARY:SRF info: Telesguard
CLASS:PUBLIC
DESCRIPTION:
ORGANIZER:
DTSTAMP:20260419T174430
ATTACH:https://www.hinto.net/de/events/srf-info-telesguard-17-04-2026-1800-e2787398-20.html
END:VEVENT
END:VCALENDAR
