BEGIN:VCALENDAR
VERSION:2.0
PRODID:hinto.net
X-PUBLISHED-TTL:P1W
BEGIN:VEVENT
UID:hinto.net-event_show-6922255
DTSTART:20260419T035000
SEQUENCE:0
CREATED:20260418T113203
LAST-MODIFIED:20260418T113203
TRANSP:OPAQUE
DTEND:20260419T040000
LOCATION:
SUMMARY:SRF info: Tagesschau
CLASS:PUBLIC
DESCRIPTION:
ORGANIZER:
DTSTAMP:20260419T145856
ATTACH:https://www.hinto.net/de/events/srf-info-tagesschau-19-04-2026-0350-e2844782-20.html
END:VEVENT
END:VCALENDAR
