BEGIN:VCALENDAR
VERSION:2.0
PRODID:hinto.net
X-PUBLISHED-TTL:P1W
BEGIN:VEVENT
UID:hinto.net-event_show-6872082
DTSTART:20260423T030000
SEQUENCE:0
CREATED:20260402T042756
LAST-MODIFIED:20260402T042756
TRANSP:OPAQUE
DTEND:20260423T030500
LOCATION:
SUMMARY:SRF info: Sportflash
CLASS:PUBLIC
DESCRIPTION:
ORGANIZER:
DTSTAMP:20260423T161842
ATTACH:https://www.hinto.net/de/events/srf-info-sportflash-23-04-2026-0300-e2800486-20.html
END:VEVENT
END:VCALENDAR
