BEGIN:VCALENDAR
VERSION:2.0
PRODID:hinto.net
X-PUBLISHED-TTL:P1W
BEGIN:VEVENT
UID:hinto.net-event_show-6922256
DTSTART:20260419T040500
SEQUENCE:0
CREATED:20260418T113203
LAST-MODIFIED:20260418T113203
TRANSP:OPAQUE
DTEND:20260419T041000
LOCATION:
SUMMARY:SRF info: Sportflash
CLASS:PUBLIC
DESCRIPTION:
ORGANIZER:
DTSTAMP:20260419T145802
ATTACH:https://www.hinto.net/de/events/srf-info-sportflash-19-04-2026-0405-e2844783-20.html
END:VEVENT
END:VCALENDAR
