BEGIN:VCALENDAR
VERSION:2.0
PRODID:hinto.net
X-PUBLISHED-TTL:P1W
BEGIN:VEVENT
UID:hinto.net-event_show-6872085
DTSTART:20260423T033500
SEQUENCE:0
CREATED:20260402T042759
LAST-MODIFIED:20260402T042759
TRANSP:OPAQUE
DTEND:20260423T034000
LOCATION:
SUMMARY:SRF info: Meteo
CLASS:PUBLIC
DESCRIPTION:
ORGANIZER:
DTSTAMP:20260423T202225
ATTACH:https://www.hinto.net/de/events/srf-info-meteo-23-04-2026-0335-e2800489-20.html
END:VEVENT
END:VCALENDAR
