BEGIN:VCALENDAR
VERSION:2.0
PRODID:hinto.net
X-PUBLISHED-TTL:P1W
BEGIN:VEVENT
UID:hinto.net-event_show-6872069
DTSTART:20260423T005500
SEQUENCE:0
CREATED:20260402T042745
LAST-MODIFIED:20260402T042745
TRANSP:OPAQUE
DTEND:20260423T010000
LOCATION:
SUMMARY:SRF info: Meteo
CLASS:PUBLIC
DESCRIPTION:
ORGANIZER:
DTSTAMP:20260423T161846
ATTACH:https://www.hinto.net/de/events/srf-info-meteo-23-04-2026-0055-e2800473-20.html
END:VEVENT
END:VCALENDAR
