BEGIN:VCALENDAR
VERSION:2.0
PRODID:hinto.net
X-PUBLISHED-TTL:P1W
BEGIN:VEVENT
UID:hinto.net-event_show-6852498
DTSTART:20260417T013000
SEQUENCE:0
CREATED:20260326T181536
LAST-MODIFIED:20260326T181536
TRANSP:OPAQUE
DTEND:20260417T013500
LOCATION:
SUMMARY:SRF info: Meteo
CLASS:PUBLIC
DESCRIPTION:
ORGANIZER:
DTSTAMP:20260419T195924
ATTACH:https://www.hinto.net/de/events/srf-info-meteo-17-04-2026-0130-e2784377-20.html
END:VEVENT
END:VCALENDAR
