BEGIN:VCALENDAR
VERSION:2.0
PRODID:hinto.net
X-PUBLISHED-TTL:P1W
BEGIN:VEVENT
UID:hinto.net-event_show-6872088
DTSTART:20260423T035000
SEQUENCE:0
CREATED:20260402T042815
LAST-MODIFIED:20260402T042815
TRANSP:OPAQUE
DTEND:20260423T041500
LOCATION:
SUMMARY:SRF info: 10 vor 10
CLASS:PUBLIC
DESCRIPTION:
ORGANIZER:
DTSTAMP:20260423T145527
ATTACH:https://www.hinto.net/de/events/srf-info-10-vor-10-23-04-2026-0350-e2800492-20.html
END:VEVENT
END:VCALENDAR
