BEGIN:VCALENDAR
VERSION:2.0
PRODID:hinto.net
X-PUBLISHED-TTL:P1W
BEGIN:VEVENT
UID:hinto.net-event_show-6872068
DTSTART:20260423T003000
SEQUENCE:0
CREATED:20260402T042744
LAST-MODIFIED:20260402T042744
TRANSP:OPAQUE
DTEND:20260423T005500
LOCATION:
SUMMARY:SRF info: 10 vor 10
CLASS:PUBLIC
DESCRIPTION:
ORGANIZER:
DTSTAMP:20260424T003340
ATTACH:https://www.hinto.net/de/events/srf-info-10-vor-10-23-04-2026-0030-e2800472-20.html
END:VEVENT
END:VCALENDAR
