BEGIN:VCALENDAR
VERSION:2.0
PRODID:hinto.net
X-PUBLISHED-TTL:P1W
BEGIN:VEVENT
UID:hinto.net-event_show-6862515
DTSTART:20260419T162000
SEQUENCE:0
CREATED:20260329T145253
LAST-MODIFIED:20260329T145253
TRANSP:OPAQUE
DTEND:20260419T171000
LOCATION:
SUMMARY:SRF 1: SRF DOK
CLASS:PUBLIC
DESCRIPTION:
ORGANIZER:
DTSTAMP:20260419T202549
ATTACH:https://www.hinto.net/de/events/srf-1-srf-dok-19-04-2026-1620-e2793131-20.html
END:VEVENT
END:VCALENDAR
