BEGIN:VCALENDAR
VERSION:2.0
PRODID:hinto.net
X-PUBLISHED-TTL:P1W
BEGIN:VEVENT
UID:hinto.net-event_show-6871961
DTSTART:20260423T015500
SEQUENCE:0
CREATED:20260415T183925
LAST-MODIFIED:20260415T183925
TRANSP:OPAQUE
DTEND:20260423T024500
LOCATION:
SUMMARY:SRF 1: Rundschau
CLASS:PUBLIC
DESCRIPTION:
ORGANIZER:
DTSTAMP:20260423T205447
ATTACH:https://www.hinto.net/de/events/srf-1-rundschau-23-04-2026-0155-e2800365-20.html
END:VEVENT
END:VCALENDAR
